{"text_format":"3","workbook":"xlsx","n_sheets":2,"sheets":["小升规","年度+月度"],"not_rendered":{"defined_names":4,"pivot_tables":1},"read":"whole","date_system":"1900"}

{"sheet":"小升规","index":0,"n_rows":238,"n_cols":6,"rows_kept":238,"merged":[[1,0,1,4]]}
["附件1"]
["2023年提升规模和新建投产企业表"]
["序号","组织机构代码","企业名称","属地","类别"]
[1,{"$f":"VLOOKUP(C4,'年度+月度'!E:F,2,FALSE)","v":"MA33WCDD1"},"福建华电福瑞能源发展有限公司","鼓楼区","提升规模"]
[2,{"$f":"VLOOKUP(C5,'年度+月度'!E:F,2,FALSE)","v":"MA32TEK91"},"福建研宇自动化科技有限公司","鼓楼区","提升规模"]
[3,{"$f":"VLOOKUP(C6,'年度+月度'!E:F,2,FALSE)","v":"MA34FYP85"},"福州亿芯微科技有限公司","鼓楼区","提升规模"]
[4,{"$f":"VLOOKUP(C7,'年度+月度'!E:F,2,FALSE)","v":"MA34AJ8P8"},"福建国电风力发电有限公司","鼓楼区","提升规模"]
[5,{"$f":"VLOOKUP(C8,'年度+月度'!E:F,2,FALSE)","v":"MA31D40C3"},"福建耐固士实业有限公司","鼓楼区","提升规模"]
[6,{"$f":"VLOOKUP(C9,'年度+月度'!E:F,2,FALSE)","v":"798382246"},"福州荣旺工贸有限公司","鼓楼区","提升规模"]
[7,{"$f":"VLOOKUP(C10,'年度+月度'!E:F,2,FALSE)","v":"315344780"},"福建鼎旸信息科技股份有限公司","鼓楼区","提升规模"]
[8,{"$f":"VLOOKUP(C11,'年度+月度'!E:F,2,FALSE)","v":"MABT1QF13"},"福州市耐步鞋业有限公司","仓山区","提升规模"]
[9,{"$f":"VLOOKUP(C12,'年度+月度'!E:F,2,FALSE)","v":"671921820"},"福州汉晶电子科技有限公司","仓山区","提升规模"]
[10,{"$f":"VLOOKUP(C13,'年度+月度'!E:F,2,FALSE)","v":"310760443"},"福州比得福农业科技发展有限公司","仓山区","提升规模"]
[11,{"$f":"VLOOKUP(C14,'年度+月度'!E:F,2,FALSE)","v":"669260269"},"福州日恒机电设备有限公司","仓山区","提升规模"]
[12,{"$f":"VLOOKUP(C15,'年度+月度'!E:F,2,FALSE)","v":"727913775"},"福州东仕照明科技有限公司","仓山区","提升规模"]
[13,{"$f":"VLOOKUP(C16,'年度+月度'!E:F,2,FALSE)","v":"MA33EGFT8"},"福州锦雅服装有限公司","仓山区","提升规模"]
[14,{"$f":"VLOOKUP(C17,'年度+月度'!E:F,2,FALSE)","v":"550993916"},"福州金信光电有限公司","仓山区","提升规模"]
[15,{"$f":"VLOOKUP(C18,'年度+月度'!E:F,2,FALSE)","v":"MA32KKGL1"},"福州基石医药科技有限公司","仓山区","新建投产"]
[16,{"$f":"VLOOKUP(C19,'年度+月度'!E:F,2,FALSE)","v":"591726515"},"福州融源达服饰有限公司","晋安区","提升规模"]
[17,{"$f":"VLOOKUP(C20,'年度+月度'!E:F,2,FALSE)","v":"MA2XUF9N0"},"福建中燃电力销售有限公司","晋安区","提升规模"]
[18,{"$f":"VLOOKUP(C21,'年度+月度'!E:F,2,FALSE)","v":"MABWM5LJ9"},"福建省吉泽铜业有限公司","晋安区","提升规模"]
[19,{"$f":"VLOOKUP(C22,'年度+月度'!E:F,2,FALSE)","v":"M0001FWF3"},"福建省江南顺达线缆有限公司","晋安区","提升规模"]
[20,{"$f":"VLOOKUP(C23,'年度+月度'!E:F,2,FALSE)","v":"MA351TBX1"},"福建晶兰元工贸有限责任公司","晋安区","提升规模"]
[21,{"$f":"VLOOKUP(C24,'年度+月度'!E:F,2,FALSE)","v":"MA3557YY8"},"福建旭时新材料有限公司","晋安区","提升规模"]
[22,{"$f":"VLOOKUP(C25,'年度+月度'!E:F,2,FALSE)","v":"MA34PD817"},"福建华合祥润工贸有限公司","晋安区","提升规模"]
[23,{"$f":"VLOOKUP(C26,'年度+月度'!E:F,2,FALSE)","v":"MA8TJDUB8"},"福州诚丰制衣有限公司","晋安区","提升规模"]
[24,{"$f":"VLOOKUP(C27,'年度+月度'!E:F,2,FALSE)","v":"MA8UNEYY7"},"中科城投（福建）发展有限公司","晋安区","提升规模"]
[25,{"$f":"VLOOKUP(C28,'年度+月度'!E:F,2,FALSE)","v":"MA2Y0NHQ5"},"福州鑫阳光服装有限公司","晋安区","提升规模"]
[26,{"$f":"VLOOKUP(C29,'年度+月度'!E:F,2,FALSE)","v":"MA347X5P0"},"福建宏升兄弟食品有限公司","马尾区","提升规模"]
[27,{"$f":"VLOOKUP(C30,'年度+月度'!E:F,2,FALSE)","v":"MA8UKBD6X"},"福建多加新材料有限公司","马尾区","提升规模"]
[28,{"$f":"VLOOKUP(C31,'年度+月度'!E:F,2,FALSE)","v":"MA31JTTHX"},"福建瑶光智能科技有限公司","马尾区","提升规模"]
[29,{"$f":"VLOOKUP(C32,'年度+月度'!E:F,2,FALSE)","v":"058447788"},"福建省鑫旭达不锈钢制品有限公司","马尾区","提升规模"]
[30,{"$f":"VLOOKUP(C33,'年度+月度'!E:F,2,FALSE)","v":"MA32C0YL8"},"福建佳灵电气设备有限公司","马尾区","提升规模"]
[31,{"$f":"VLOOKUP(C34,'年度+月度'!E:F,2,FALSE)","v":"MA2YE0KQ8"},"福建海卓售电有限公司","马尾区","提升规模"]
[32,{"$f":"VLOOKUP(C35,'年度+月度'!E:F,2,FALSE)","v":"79839567X"},"福州西铁机电技术有限公司","马尾区","提升规模"]
[33,{"$f":"VLOOKUP(C36,'年度+月度'!E:F,2,FALSE)","v":"761786909"},"福州苏榕电气成套有限公司","马尾区","提升规模"]
[34,{"$f":"VLOOKUP(C37,'年度+月度'!E:F,2,FALSE)","v":"399210375"},"福建嘉渔工贸有限公司","马尾区","提升规模"]
[35,{"$f":"VLOOKUP(C38,'年度+月度'!E:F,2,FALSE)","v":"561682304"},"福州顺达金属工业有限公司","马尾区","提升规模"]
[36,{"$f":"VLOOKUP(C39,'年度+月度'!E:F,2,FALSE)","v":"MA348QDC1"},"福州需求侧电力科技有限公司","马尾区","提升规模"]
[37,{"$f":"VLOOKUP(C40,'年度+月度'!E:F,2,FALSE)","v":"MA34D4B83"},"贝乐鲜（福州）食品科技有限公司","马尾区","新建投产"]
[38,{"$f":"VLOOKUP(C41,'年度+月度'!E:F,2,FALSE)","v":"555055793"},"福建省恒裕实业有限公司","长乐区","提升规模"]
[39,{"$f":"VLOOKUP(C42,'年度+月度'!E:F,2,FALSE)","v":"MA8T4P171"},"福州市长乐区琪广通砂石有限公司","长乐区","提升规模"]
[40,{"$f":"VLOOKUP(C43,'年度+月度'!E:F,2,FALSE)","v":"587500484"},"福建鑫四海装饰材料有限公司","长乐区","提升规模"]
[41,{"$f":"VLOOKUP(C44,'年度+月度'!E:F,2,FALSE)","v":"MA33XDYL9"},"福州市长乐区宏源健康科技有限公司","长乐区","提升规模"]
[42,{"$f":"VLOOKUP(C45,'年度+月度'!E:F,2,FALSE)","v":"MA33JX3U3"},"福州光闰光学有限公司","长乐区","提升规模"]
[43,{"$f":"VLOOKUP(C46,'年度+月度'!E:F,2,FALSE)","v":"MA8ULB0B3"},"福建博那德中科新材料有限公司","长乐区","提升规模"]
[44,{"$f":"VLOOKUP(C47,'年度+月度'!E:F,2,FALSE)","v":"563358356"},"福州市长乐区鸿兴针织有限公司","长乐区","提升规模"]
[45,{"$f":"VLOOKUP(C48,'年度+月度'!E:F,2,FALSE)","v":"MA8TNEPG1"},"福建恒洲纺织科技有限公司","长乐区","提升规模"]
[46,{"$f":"VLOOKUP(C49,'年度+月度'!E:F,2,FALSE)","v":"MA8UJNFF3"},"福州市长乐区德晟纤维科技有限公司","长乐区","提升规模"]
[47,{"$f":"VLOOKUP(C50,'年度+月度'!E:F,2,FALSE)","v":"587532830"},"福建针凌机械有限公司","长乐区","提升规模"]
[48,{"$f":"VLOOKUP(C51,'年度+月度'!E:F,2,FALSE)","v":"MA345UD91"},"福建坤和纺织有限公司","长乐区","提升规模"]
[49,{"$f":"VLOOKUP(C52,'年度+月度'!E:F,2,FALSE)","v":"MA8UR2CC6"},"福建翔越材料有限公司","长乐区","提升规模"]
[50,{"$f":"VLOOKUP(C53,'年度+月度'!E:F,2,FALSE)","v":"MA31P0PD5"},"福建天宁金岛贝壳科技有限公司","长乐区","提升规模"]
[51,{"$f":"VLOOKUP(C54,'年度+月度'!E:F,2,FALSE)","v":"MA31ERDG7"},"福州晶创玻璃有限公司","长乐区","提升规模"]
[52,{"$f":"VLOOKUP(C55,'年度+月度'!E:F,2,FALSE)","v":"MA3430LD2"},"福建省中筑建安钢结构有限公司","长乐区","提升规模",1]
[53,{"$f":"VLOOKUP(C56,'年度+月度'!E:F,2,FALSE)","v":"MABXG0JEX"},"福州合和新材料有限公司","长乐区","提升规模"]
[54,{"$f":"VLOOKUP(C57,'年度+月度'!E:F,2,FALSE)","v":"MA32G4440"},"福州市滨海水务发展有限公司","长乐区","提升规模"]
[55,{"$f":"VLOOKUP(C58,'年度+月度'!E:F,2,FALSE)","v":"MA8T7FR92"},"福建长昇科技有限公司","长乐区","提升规模"]
[56,{"$f":"VLOOKUP(C59,'年度+月度'!E:F,2,FALSE)","v":"MA8T5CG0X"},"欧睿宇邦（福建）智能科技有限公司","长乐区","提升规模"]
[57,{"$f":"VLOOKUP(C60,'年度+月度'!E:F,2,FALSE)","v":"MA8URTA09"},"福建天翔舒沃体育用品有限公司","长乐区","提升规模"]
[58,{"$f":"VLOOKUP(C61,'年度+月度'!E:F,2,FALSE)","v":"337512263"},"华能（福州长乐）光伏发电有限责任公司","长乐区","提升规模"]
[59,{"$f":"VLOOKUP(C62,'年度+月度'!E:F,2,FALSE)","v":"MABP18C62"},"福州市长乐区山海乐裁纺织有限公司","长乐区","提升规模"]
[60,{"$f":"VLOOKUP(C63,'年度+月度'!E:F,2,FALSE)","v":"MABUQEQT7"},"汇纳肉业（福州）有限公司","长乐区","提升规模"]
[61,{"$f":"VLOOKUP(C64,'年度+月度'!E:F,2,FALSE)","v":"MABNYRQW4"},"福建锟泰钢管制造有限公司","长乐区","提升规模"]
[62,{"$f":"VLOOKUP(C65,'年度+月度'!E:F,2,FALSE)","v":"MA8ULTU70"},"福建嘉德纺织有限公司","长乐区","提升规模"]
[63,{"$f":"VLOOKUP(C66,'年度+月度'!E:F,2,FALSE)","v":"MA32E0UK5"},"福州锦华针织有限公司","长乐区","提升规模"]
[64,{"$f":"VLOOKUP(C67,'年度+月度'!E:F,2,FALSE)","v":"MA3413XH9"},"福建福州鼎锦城建材有限公司","长乐区","提升规模"]
[65,{"$f":"VLOOKUP(C68,'年度+月度'!E:F,2,FALSE)","v":"064149103"},"福建富平实业有限公司","长乐区","提升规模"]
[66,{"$f":"VLOOKUP(C69,'年度+月度'!E:F,2,FALSE)","v":"782182733"},"福州市长乐区古源茶叶有限公司","长乐区","提升规模"]
[67,{"$f":"VLOOKUP(C70,'年度+月度'!E:F,2,FALSE)","v":"753149352"},"福建福创建筑安全技术开发有限公司","长乐区","提升规模"]
[68,{"$f":"VLOOKUP(C71,'年度+月度'!E:F,2,FALSE)","v":"574719022"},"福建碧全科技有限公司","长乐区","提升规模"]
[69,{"$f":"VLOOKUP(C72,'年度+月度'!E:F,2,FALSE)","v":"MA8TDGRA6"},"福建埃克斯动力设备有限公司","长乐区","提升规模"]
[70,{"$f":"VLOOKUP(C73,'年度+月度'!E:F,2,FALSE)","v":"MA35CEQL8"},"福州恒美光电材料有限公司","长乐区","提升规模"]
[71,{"$f":"VLOOKUP(C74,'年度+月度'!E:F,2,FALSE)","v":"337472476"},"福建汇邦包装有限公司","长乐区","提升规模"]
[72,{"$f":"VLOOKUP(C75,'年度+月度'!E:F,2,FALSE)","v":"MA31QQ209"},"福建省立华智纺科技有限公司","长乐区","提升规模"]
[73,{"$f":"VLOOKUP(C76,'年度+月度'!E:F,2,FALSE)","v":"MAC2J08Q8"},"福州恒易家居有限公司","长乐区","新建投产"]
[74,{"$f":"VLOOKUP(C77,'年度+月度'!E:F,2,FALSE)","v":"MAC0976M5"},"福建鑫丰联实业有限公司","长乐区","新建投产"]
[75,{"$f":"VLOOKUP(C78,'年度+月度'!E:F,2,FALSE)","v":"MA321XNT3"},"福建富轩科技有限公司","福清市","提升规模"]
[76,{"$f":"VLOOKUP(C79,'年度+月度'!E:F,2,FALSE)","v":"MA31M6UF3"},"福建川海水产有限公司","福清市","提升规模"]
[77,{"$f":"VLOOKUP(C80,'年度+月度'!E:F,2,FALSE)","v":"098134065"},"福清市旭瑞光电科技有限公司","福清市","提升规模"]
[78,{"$f":"VLOOKUP(C81,'年度+月度'!E:F,2,FALSE)","v":"MA3362MF6"},"福州鑫丰玻璃有限公司","福清市","提升规模"]
[79,{"$f":"VLOOKUP(C82,'年度+月度'!E:F,2,FALSE)","v":"MA35CH842"},"福清丰通鞋业有限公司","福清市","提升规模"]
[80,{"$f":"VLOOKUP(C83,'年度+月度'!E:F,2,FALSE)","v":"MA3503G90"},"邹氏家居（福州）有限公司","福清市","提升规模"]
[81,{"$f":"VLOOKUP(C84,'年度+月度'!E:F,2,FALSE)","v":"MA345R9W6"},"福清鑫利金属制品有限公司","福清市","提升规模"]
[82,{"$f":"VLOOKUP(C85,'年度+月度'!E:F,2,FALSE)","v":"563386875"},"福建德隆实业有限公司","福清市","提升规模"]
[83,{"$f":"VLOOKUP(C86,'年度+月度'!E:F,2,FALSE)","v":"MA8UMNUG3"},"福清市飞林食品有限公司","福清市","提升规模"]
[84,{"$f":"VLOOKUP(C87,'年度+月度'!E:F,2,FALSE)","v":"MA31G26D0"},"泰士康医疗科技（福州）有限公司","福清市","提升规模"]
[85,{"$f":"VLOOKUP(C88,'年度+月度'!E:F,2,FALSE)","v":"MA8UB61K5"},"福清三强鞋业有限公司","福清市","提升规模"]
[86,{"$f":"VLOOKUP(C89,'年度+月度'!E:F,2,FALSE)","v":"MA8TLPKJ3"},"福建铠盾材料科技有限公司","福清市","提升规模"]
[87,{"$f":"VLOOKUP(C90,'年度+月度'!E:F,2,FALSE)","v":"MA8UKEJ31"},"福清市冠翔再生资源有限公司","福清市","提升规模"]
[88,{"$f":"VLOOKUP(C91,'年度+月度'!E:F,2,FALSE)","v":"MA329PQ90"},"煜烁食品（福清）有限公司","福清市","提升规模"]
[89,{"$f":"VLOOKUP(C92,'年度+月度'!E:F,2,FALSE)","v":"MA32GD4X2"},"福建淼天汇食品有限公司","福清市","提升规模"]
[90,{"$f":"VLOOKUP(C93,'年度+月度'!E:F,2,FALSE)","v":"MABUF0XA8"},"福建镜祥科技有限公司","福清市","提升规模"]
[91,{"$f":"VLOOKUP(C94,'年度+月度'!E:F,2,FALSE)","v":"MA34G65P6"},"福州福融泽实业有限公司","福清市","提升规模"]
[92,{"$f":"VLOOKUP(C95,'年度+月度'!E:F,2,FALSE)","v":"MA347FRA9"},"福建省多普健水产科技有限公司","福清市","提升规模"]
[93,{"$f":"VLOOKUP(C96,'年度+月度'!E:F,2,FALSE)","v":"MAC3HFKQ5"},"万华环保科技（福建）有限公司","福清市","提升规模"]
[94,{"$f":"VLOOKUP(C97,'年度+月度'!E:F,2,FALSE)","v":"MA8UTMLQ3"},"福清交投沥青混凝土有限公司","福清市","提升规模"]
[95,{"$f":"VLOOKUP(C98,'年度+月度'!E:F,2,FALSE)","v":"MA31T0052"},"福建升辉鞋业有限公司","福清市","提升规模"]
[96,{"$f":"VLOOKUP(C99,'年度+月度'!E:F,2,FALSE)","v":"MA32GM4A9"},"福建港龙深鲜水产食品有限公司","福清市","提升规模"]
[97,{"$f":"VLOOKUP(C100,'年度+月度'!E:F,2,FALSE)","v":"154915991"},"福清市五星服装厂","福清市","提升规模"]
[98,{"$f":"VLOOKUP(C101,'年度+月度'!E:F,2,FALSE)","v":"MA31FULY9"},"福建云创食品科技有限公司","福清市","提升规模"]
[99,{"$f":"VLOOKUP(C102,'年度+月度'!E:F,2,FALSE)","v":"MA34D0M66"},"福建高湖世家鞋业有限公司","福清市","提升规模"]
[100,{"$f":"VLOOKUP(C103,'年度+月度'!E:F,2,FALSE)","v":"MA8RM5AF6"},"福建联升纺织有限公司","福清市","提升规模"]
[101,{"$f":"VLOOKUP(C104,'年度+月度'!E:F,2,FALSE)","v":"MA323RU48"},"福清市兴弘塑料制品有限公司","福清市","提升规模"]
[102,{"$f":"VLOOKUP(C105,'年度+月度'!E:F,2,FALSE)","v":"MAC91J1T8"},"福建冠航食品有限公司","福清市","提升规模"]
[103,{"$f":"VLOOKUP(C106,'年度+月度'!E:F,2,FALSE)","v":"068769617"},"福州市海昌生物科技有限公司","福清市","提升规模"]
[104,{"$f":"VLOOKUP(C107,'年度+月度'!E:F,2,FALSE)","v":"753128770"},"福清黎阳水务有限公司","福清市","提升规模"]
[105,{"$f":"VLOOKUP(C108,'年度+月度'!E:F,2,FALSE)","v":"MA2XN69R0"},"福清市弘旭塑料制品有限公司","福清市","提升规模"]
[106,{"$f":"VLOOKUP(C109,'年度+月度'!E:F,2,FALSE)","v":"696623512"},"福州市坤杰服饰科技有限公司","福清市","提升规模"]
[107,{"$f":"VLOOKUP(C110,'年度+月度'!E:F,2,FALSE)","v":"MA33UX4A6"},"福建省云鲲塑业有限公司","福清市","提升规模"]
[108,{"$f":"VLOOKUP(C111,'年度+月度'!E:F,2,FALSE)","v":"MA8RDX883"},"福清市鑫福融家居用品有限公司","福清市","提升规模"]
[109,{"$f":"VLOOKUP(C112,'年度+月度'!E:F,2,FALSE)","v":"337475589"},"福州富春紫光污水处理有限公司","福清市","提升规模"]
[110,{"$f":"VLOOKUP(C113,'年度+月度'!E:F,2,FALSE)","v":"073247880"},"福州家和兴纺织有限公司","福清市","提升规模"]
[111,{"$f":"VLOOKUP(C114,'年度+月度'!E:F,2,FALSE)","v":"MA31DR0R9"},"福清市瑞强制衣有限公司","福清市","提升规模"]
[112,{"$f":"VLOOKUP(C115,'年度+月度'!E:F,2,FALSE)","v":"MA32DH175"},"福清联辉鞋业有限公司","福清市","新建投产"]
[113,{"$f":"VLOOKUP(C116,'年度+月度'!E:F,2,FALSE)","v":"MA3563NA6"},"中粮制桶（福建）有限公司","福清市","新建投产"]
[114,{"$f":"VLOOKUP(C117,'年度+月度'!E:F,2,FALSE)","v":"MA8UW5AT8"},"福建富元高分子材料科技有限公司","福清市","新建投产"]
[115,{"$f":"VLOOKUP(C118,'年度+月度'!E:F,2,FALSE)","v":"MA8TDBX33"},"福建福盛和塑胶制品有限公司","福清市","新建投产"]
[116,{"$f":"VLOOKUP(C119,'年度+月度'!E:F,2,FALSE)","v":"MA35EKD94"},"福建思嘉新材料科技有限公司","福清市","新建投产"]
[117,{"$f":"VLOOKUP(C120,'年度+月度'!E:F,2,FALSE)","v":"MABWD5EJ5"},"福建洁电电气有限公司","福清市","新建投产"]
[118,{"$f":"VLOOKUP(C121,'年度+月度'!E:F,2,FALSE)","v":"MABQGJ1B6"},"福建源畅食品有限公司","福清市","新建投产"]
[119,{"$f":"VLOOKUP(C122,'年度+月度'!E:F,2,FALSE)","v":"MAC36JYU8"},"福清森达电气有限公司","福清市","新建投产"]
[120,{"$f":"VLOOKUP(C123,'年度+月度'!E:F,2,FALSE)","v":"MA8T1CT19"},"福建鸿太沥青混凝土有限公司","福清市","新建投产"]
[121,{"$f":"VLOOKUP(C124,'年度+月度'!E:F,2,FALSE)","v":"MAC0MJ975"},"福建世高汽车配件有限公司","福清市","新建投产"]
[122,{"$f":"VLOOKUP(C125,'年度+月度'!E:F,2,FALSE)","v":"MAC81NX71"},"福建云尚食品有限公司","福清市","新建投产"]
[123,{"$f":"VLOOKUP(C126,'年度+月度'!E:F,2,FALSE)","v":"MABXMBEA8"},"祥运包装（福州）有限公司","福清市","新建投产"]
[124,{"$f":"VLOOKUP(C127,'年度+月度'!E:F,2,FALSE)","v":"MABT3GW23"},"福建富昆实业有限公司","福清市","新建投产"]
[125,{"$f":"VLOOKUP(C128,'年度+月度'!E:F,2,FALSE)","v":"MA8UAEF90"},"福州蓝科装备制造有限公司","闽侯县","提升规模"]
[126,{"$f":"VLOOKUP(C129,'年度+月度'!E:F,2,FALSE)","v":"660380790"},"福州华夏永昌胶粘制品有限公司","闽侯县","提升规模"]
[127,{"$f":"VLOOKUP(C130,'年度+月度'!E:F,2,FALSE)","v":"MA33HBUM9"},"福建同利食品有限公司","闽侯县","提升规模"]
[128,{"$f":"VLOOKUP(C131,'年度+月度'!E:F,2,FALSE)","v":"MABYFAE65"},"福建省翼比实集团有限公司","闽侯县","提升规模"]
[129,{"$f":"VLOOKUP(C132,'年度+月度'!E:F,2,FALSE)","v":"MA33TUTG0"},"福建创盈实业有限公司","闽侯县","提升规模"]
[130,{"$f":"VLOOKUP(C133,'年度+月度'!E:F,2,FALSE)","v":"MA32BFD75"},"福州德扬电子科技有限公司","闽侯县","提升规模"]
[131,{"$f":"VLOOKUP(C134,'年度+月度'!E:F,2,FALSE)","v":"789019277"},"环德（福建）环保科技有限公司","闽侯县","提升规模"]
[132,{"$f":"VLOOKUP(C135,'年度+月度'!E:F,2,FALSE)","v":"062270727"},"福州金华彩钢夹芯板有限公司","闽侯县","提升规模"]
[133,{"$f":"VLOOKUP(C136,'年度+月度'!E:F,2,FALSE)","v":"MAC4J96M9"},"福建智可荣实业有限公司","闽侯县","提升规模"]
[134,{"$f":"VLOOKUP(C137,'年度+月度'!E:F,2,FALSE)","v":"611310841"},"福州新榕机械发展有限公司","闽侯县","提升规模"]
[135,{"$f":"VLOOKUP(C138,'年度+月度'!E:F,2,FALSE)","v":"MA2YN82CX"},"福州富林居新材料科技有限公司","闽侯县","提升规模"]
[136,{"$f":"VLOOKUP(C139,'年度+月度'!E:F,2,FALSE)","v":"MA8RMYC48"},"福州冠茗茶业有限公司","闽侯县","提升规模"]
[137,{"$f":"VLOOKUP(C140,'年度+月度'!E:F,2,FALSE)","v":"MA32906NX"},"福建鑫家鸿消防科技有限公司","闽侯县","提升规模"]
[138,{"$f":"VLOOKUP(C141,'年度+月度'!E:F,2,FALSE)","v":"MA8TFWY54"},"福建佳丽旺食品有限责任公司","闽侯县","提升规模"]
[139,{"$f":"VLOOKUP(C142,'年度+月度'!E:F,2,FALSE)","v":"MA332KL8X"},"福建鑫宏建建筑工程有限公司","闽侯县","提升规模"]
[140,{"$f":"VLOOKUP(C143,'年度+月度'!E:F,2,FALSE)","v":"337615182"},"福建华夏蓝新材料科技有限公司","闽侯县","提升规模"]
[141,{"$f":"VLOOKUP(C144,'年度+月度'!E:F,2,FALSE)","v":"MA8TMWR82"},"福建云汉汽车科技有限公司","闽侯县","提升规模"]
[142,{"$f":"VLOOKUP(C145,'年度+月度'!E:F,2,FALSE)","v":"MA32EKC52"},"福州奕扬机械有限公司","闽侯县","提升规模"]
[143,{"$f":"VLOOKUP(C146,'年度+月度'!E:F,2,FALSE)","v":"772912480"},"福州东坤饲料有限公司","闽侯县","提升规模"]
[144,{"$f":"VLOOKUP(C147,'年度+月度'!E:F,2,FALSE)","v":"MA31GY96X"},"福建中晟食品有限公司","闽侯县","提升规模"]
[145,{"$f":"VLOOKUP(C148,'年度+月度'!E:F,2,FALSE)","v":"MA340D6U5"},"福建嘉瑶食品有限公司","闽侯县","提升规模"]
[146,{"$f":"VLOOKUP(C149,'年度+月度'!E:F,2,FALSE)","v":"MA2Y545X1"},"福建茂恒汽车配件有限公司","闽侯县","提升规模"]
[147,{"$f":"VLOOKUP(C150,'年度+月度'!E:F,2,FALSE)","v":"052310756"},"福建天赐农牧开发有限公司","闽侯县","提升规模"]
[148,{"$f":"VLOOKUP(C151,'年度+月度'!E:F,2,FALSE)","v":"565384013"},"闽侯县三溪口自来水有限公司","闽侯县","提升规模"]
[149,{"$f":"VLOOKUP(C152,'年度+月度'!E:F,2,FALSE)","v":"MACA54L85"},"福建洛西琴家具有限公司","闽侯县","提升规模"]
[150,{"$f":"VLOOKUP(C153,'年度+月度'!E:F,2,FALSE)","v":"685085413"},"福建省通途材料工程有限公司","闽侯县","提升规模"]
[151,{"$f":"VLOOKUP(C154,'年度+月度'!E:F,2,FALSE)","v":"MA8UDJ319"},"福建八面将食品科技有限公司","闽侯县","提升规模"]
[152,{"$f":"VLOOKUP(C155,'年度+月度'!E:F,2,FALSE)","v":"MAC7RP5K6"},"三西红（福建）木业有限公司","闽侯县","提升规模"]
[153,{"$f":"VLOOKUP(C156,'年度+月度'!E:F,2,FALSE)","v":"591740149"},"福建乾德机电有限公司","闽侯县","提升规模"]
[154,{"$f":"VLOOKUP(C157,'年度+月度'!E:F,2,FALSE)","v":"154664555"},"福建省闽侯县闽星茶叶有限公司","闽侯县","提升规模"]
[155,{"$f":"VLOOKUP(C158,'年度+月度'!E:F,2,FALSE)","v":"310615262"},"福州明朝建材有限公司","闽侯县","提升规模"]
[156,{"$f":"VLOOKUP(C159,'年度+月度'!E:F,2,FALSE)","v":"MA353EQK0"},"福建敬萱堂食品有限公司","闽侯县","提升规模"]
[157,{"$f":"VLOOKUP(C160,'年度+月度'!E:F,2,FALSE)","v":"MAC5YDG06"},"福州胜德汽车科技有限公司","闽侯县","提升规模"]
[158,{"$f":"VLOOKUP(C161,'年度+月度'!E:F,2,FALSE)","v":"MA31ELRC7"},"福建缘杉纺织品有限公司","闽侯县","提升规模"]
[159,{"$f":"VLOOKUP(C162,'年度+月度'!E:F,2,FALSE)","v":"399578065"},"福州尚威新材科技有限公司","闽侯县","提升规模"]
[160,{"$f":"VLOOKUP(C163,'年度+月度'!E:F,2,FALSE)","v":"08164814X"},"福建精美金属科技有限公司","闽侯县","提升规模"]
[161,{"$f":"VLOOKUP(C164,'年度+月度'!E:F,2,FALSE)","v":"553233605"},"福建汉林极上食品有限公司","闽侯县","提升规模"]
[162,{"$f":"VLOOKUP(C165,'年度+月度'!E:F,2,FALSE)","v":"MA31HPX55"},"福州蓝渔实业有限公司","闽侯县","提升规模"]
[163,{"$f":"VLOOKUP(C166,'年度+月度'!E:F,2,FALSE)","v":"096226222"},"福建瑞元智能科技有限公司","闽侯县","提升规模"]
[164,{"$f":"VLOOKUP(C167,'年度+月度'!E:F,2,FALSE)","v":"MAC9TWC68"},"福建艺佰皖集团有限公司","闽侯县","提升规模"]
[165,{"$f":"VLOOKUP(C168,'年度+月度'!E:F,2,FALSE)","v":"MA34AN2P0"},"福建九圃生物科技有限公司","闽侯县","提升规模"]
[166,{"$f":"VLOOKUP(C169,'年度+月度'!E:F,2,FALSE)","v":"MA32W88F4"},"福建省嘎嘎黄小鸭食品有限公司","闽侯县","提升规模"]
[167,{"$f":"VLOOKUP(C170,'年度+月度'!E:F,2,FALSE)","v":"154662963"},"福建省闽侯县青口第二茶厂","闽侯县","提升规模"]
[168,{"$f":"VLOOKUP(C171,'年度+月度'!E:F,2,FALSE)","v":"MA8RKPYC8"},"福建榕灿电气科技有限公司","闽侯县","提升规模"]
[169,{"$f":"VLOOKUP(C172,'年度+月度'!E:F,2,FALSE)","v":"735688862"},"福州常兴制冷设备有限公司","闽侯县","提升规模"]
[170,{"$f":"VLOOKUP(C173,'年度+月度'!E:F,2,FALSE)","v":"MA8RC2A35"},"福建日电水务科技有限公司","闽侯县","提升规模"]
[171,{"$f":"VLOOKUP(C174,'年度+月度'!E:F,2,FALSE)","v":"MA2YLR966"},"福州宏彦食品有限公司","闽侯县","提升规模"]
[172,{"$f":"VLOOKUP(C175,'年度+月度'!E:F,2,FALSE)","v":"337597017"},"福建蓝美新材料有限公司","闽侯县","提升规模"]
[173,{"$f":"VLOOKUP(C176,'年度+月度'!E:F,2,FALSE)","v":"MA33W6GAX"},"福建奥飞新材料有限公司","闽侯县","提升规模"]
[174,{"$f":"VLOOKUP(C177,'年度+月度'!E:F,2,FALSE)","v":"MA32YUU88"},"山辉（福建）生物科技发展有限公司","高新区","提升规模"]
[175,{"$f":"VLOOKUP(C178,'年度+月度'!E:F,2,FALSE)","v":"MA8UC1TE6"},"福州益诚服装有限公司","高新区","提升规模"]
[176,{"$f":"VLOOKUP(C179,'年度+月度'!E:F,2,FALSE)","v":"MA3216H98"},"福建省福大百阳化工科技有限公司","高新区","提升规模"]
[177,{"$f":"VLOOKUP(C180,'年度+月度'!E:F,2,FALSE)","v":"591748546"},"福州玉龙纳米科技有限公司","高新区","提升规模"]
[178,{"$f":"VLOOKUP(C181,'年度+月度'!E:F,2,FALSE)","v":"MA32TE2B3"},"福州凌扬机电技术有限公司","高新区","提升规模"]
[179,{"$f":"VLOOKUP(C182,'年度+月度'!E:F,2,FALSE)","v":"MA31MYTR1"},"福州睿能控制技术有限公司","高新区","提升规模"]
[180,{"$f":"VLOOKUP(C183,'年度+月度'!E:F,2,FALSE)","v":"MA31L75D5"},"福建华青电气有限公司","高新区","提升规模"]
[181,{"$f":"VLOOKUP(C184,'年度+月度'!E:F,2,FALSE)","v":"MA353JWT6"},"福建宏博瑞业集团有限公司","高新区","提升规模"]
[182,{"$f":"VLOOKUP(C185,'年度+月度'!E:F,2,FALSE)","v":"MA32FRN49"},"伯特瑞（福建）生物科技有限公司","高新区","提升规模"]
[183,{"$f":"VLOOKUP(C186,'年度+月度'!E:F,2,FALSE)","v":"550989896"},"福州威莱科电气有限公司","高新区","提升规模"]
[184,{"$f":"VLOOKUP(C187,'年度+月度'!E:F,2,FALSE)","v":"685090386"},"福州派利德电子科技有限公司","高新区","提升规模"]
[185,{"$f":"VLOOKUP(C188,'年度+月度'!E:F,2,FALSE)","v":"MA359YAP7"},"福建省创鑫微电子有限公司","高新区","提升规模"]
[186,{"$f":"VLOOKUP(C189,'年度+月度'!E:F,2,FALSE)","v":"064109881"},"福建富兰智能光学技术有限公司","高新区","提升规模"]
[187,{"$f":"VLOOKUP(C190,'年度+月度'!E:F,2,FALSE)","v":"MA8UG8C47"},"福建光旭科技有限公司","高新区","提升规模"]
[188,{"$f":"VLOOKUP(C191,'年度+月度'!E:F,2,FALSE)","v":"MA8TLMWJ1"},"福建永福汇能科技有限公司","高新区","提升规模"]
[189,{"$f":"VLOOKUP(C192,'年度+月度'!E:F,2,FALSE)","v":"MA2Y7GDR7"},"福建华夏蓝天科技有限公司","高新区","提升规模"]
[190,{"$f":"VLOOKUP(C193,'年度+月度'!E:F,2,FALSE)","v":"MABRD81X0"},"福建永福绿能科技有限公司","高新区","新建投产"]
[191,{"$f":"VLOOKUP(C194,'年度+月度'!E:F,2,FALSE)","v":"MA8UJYQQ3"},"福建锦泰生物科技有限公司","高新区","新建投产"]
[192,{"$f":"VLOOKUP(C195,'年度+月度'!E:F,2,FALSE)","v":"MABRXF2F8"},"福建永福绿能设备有限公司","高新区","新建投产"]
[193,{"$f":"VLOOKUP(C196,'年度+月度'!E:F,2,FALSE)","v":"MA33K3205"},"福州瑞得森实业有限公司","连江县","提升规模"]
[194,{"$f":"VLOOKUP(C197,'年度+月度'!E:F,2,FALSE)","v":"MA8URNUW1"},"福建胜和食品有限公司","连江县","提升规模"]
[195,{"$f":"VLOOKUP(C198,'年度+月度'!E:F,2,FALSE)","v":"MA32W8LE9"},"福建致合金属制造有限公司","连江县","提升规模"]
[196,{"$f":"VLOOKUP(C199,'年度+月度'!E:F,2,FALSE)","v":"569281863"},"连江县鑫辉彩印厂（普通合伙）","连江县","提升规模"]
[197,{"$f":"VLOOKUP(C200,'年度+月度'!E:F,2,FALSE)","v":"689364444"},"福建京华电气设备有限公司","连江县","提升规模"]
[198,{"$f":"VLOOKUP(C201,'年度+月度'!E:F,2,FALSE)","v":"MA8TMG4E1"},"福建省连江县宏晟矿业有限公司","连江县","提升规模"]
[199,{"$f":"VLOOKUP(C202,'年度+月度'!E:F,2,FALSE)","v":"MA8REL165"},"欧事达家居（福州）有限公司","连江县","提升规模"]
[200,{"$f":"VLOOKUP(C203,'年度+月度'!E:F,2,FALSE)","v":"056116002"},"福建大众健康生物科技有限公司","连江县","提升规模"]
[201,{"$f":"VLOOKUP(C204,'年度+月度'!E:F,2,FALSE)","v":"MA322UF7X"},"福建福立方实业有限公司","连江县","提升规模"]
[202,{"$f":"VLOOKUP(C205,'年度+月度'!E:F,2,FALSE)","v":"MA2YMNXT1"},"连江县锦程新型材料有限公司","连江县","提升规模"]
[203,{"$f":"VLOOKUP(C206,'年度+月度'!E:F,2,FALSE)","v":"MA33RAN73"},"海环资源科技有限责任公司","连江县","提升规模"]
[204,{"$f":"VLOOKUP(C207,'年度+月度'!E:F,2,FALSE)","v":"MA8UQDRP2"},"福建溥泉新能源科技有限公司","连江县","新建投产"]
[205,{"$f":"VLOOKUP(C208,'年度+月度'!E:F,2,FALSE)","v":"MA353DRM0"},"福建恒申电子材料科技有限公司","连江县","新建投产"]
[206,{"$f":"VLOOKUP(C209,'年度+月度'!E:F,2,FALSE)","v":"MA8RDHB03"},"福建东禾晟实业有限公司","连江县","新建投产"]
[207,{"$f":"VLOOKUP(C210,'年度+月度'!E:F,2,FALSE)","v":"MA8UBMHL9"},"福建润泽新能源科技发展有限公司","连江县","新建投产"]
[208,{"$f":"VLOOKUP(C211,'年度+月度'!E:F,2,FALSE)","v":"MABYK5RC0"},"福州市智明科技有限公司","连江县","新建投产"]
[209,{"$f":"VLOOKUP(C212,'年度+月度'!E:F,2,FALSE)","v":"MA8UJTGDX"},"福建省福蓉源再生资源开发有限公司","罗源县","提升规模"]
[210,{"$f":"VLOOKUP(C213,'年度+月度'!E:F,2,FALSE)","v":"MA8TCKR42"},"福建新良佐自动化设备有限公司","罗源县","提升规模"]
[211,{"$f":"VLOOKUP(C214,'年度+月度'!E:F,2,FALSE)","v":"MA31NPFK6"},"福建润禾米业有限公司","罗源县","提升规模"]
[212,{"$f":"VLOOKUP(C215,'年度+月度'!E:F,2,FALSE)","v":"MA8RE9DC8"},"福建宝太不锈钢有限公司","罗源县","提升规模"]
[213,{"$f":"VLOOKUP(C216,'年度+月度'!E:F,2,FALSE)","v":"MA321EY20"},"福建华扬新材料科技有限公司","罗源县","提升规模"]
[214,{"$f":"VLOOKUP(C217,'年度+月度'!E:F,2,FALSE)","v":"MA348C766"},"福州聚利通新材料科技有限公司","罗源县","提升规模"]
[215,{"$f":"VLOOKUP(C218,'年度+月度'!E:F,2,FALSE)","v":"MACQMARNX"},"欧冶链金（福建）再生资源有限公司","罗源县","提升规模"]
[216,{"$f":"VLOOKUP(C219,'年度+月度'!E:F,2,FALSE)","v":"MA2XNUFW5"},"福建安之源消防科技有限公司","罗源县","提升规模"]
[217,{"$f":"VLOOKUP(C220,'年度+月度'!E:F,2,FALSE)","v":"MA8U5BFG2"},"福建润普新材料科技有限公司","罗源县","提升规模"]
[218,{"$f":"VLOOKUP(C221,'年度+月度'!E:F,2,FALSE)","v":"MA33F2HB0"},"福州昌博集装箱制造有限公司","罗源县","提升规模"]
[219,{"$f":"VLOOKUP(C222,'年度+月度'!E:F,2,FALSE)","v":"MA8UHEXD6"},"福建炻艺新材有限公司","罗源县","提升规模"]
[220,{"$f":"VLOOKUP(C223,'年度+月度'!E:F,2,FALSE)","v":"MA33AYW14"},"福建鼎融新型环保材料有限公司","罗源县","新建投产"]
[221,{"$f":"VLOOKUP(C224,'年度+月度'!E:F,2,FALSE)","v":"MA8UJTEK4"},"福建省福蓉源新材料高端制造有限公司","罗源县","新建投产"]
[222,{"$f":"VLOOKUP(C225,'年度+月度'!E:F,2,FALSE)","v":"MABUPQ466"},"福建金嘉建材有限公司","罗源县","新建投产"]
[223,{"$f":"VLOOKUP(C226,'年度+月度'!E:F,2,FALSE)","v":"MA32R3TR5"},"闽清伟明环保能源有限公司","闽清县","提升规模"]
[224,{"$f":"VLOOKUP(C227,'年度+月度'!E:F,2,FALSE)","v":"MA8UYEQE2"},"福州长祥建材有限公司","闽清县","提升规模"]
[225,{"$f":"VLOOKUP(C228,'年度+月度'!E:F,2,FALSE)","v":"MA34E44B9"},"永畅通（福建）建材有限公司","闽清县","提升规模"]
[226,{"$f":"VLOOKUP(C229,'年度+月度'!E:F,2,FALSE)","v":"628598968"},"福建省闽江沙石实业有限公司","闽清县","提升规模"]
[227,{"$f":"VLOOKUP(C230,'年度+月度'!E:F,2,FALSE)","v":"MA2XRY836"},"福州市腾茂家居用品有限公司","闽清县","提升规模"]
[228,{"$f":"VLOOKUP(C231,'年度+月度'!E:F,2,FALSE)","v":"MA32FYBX9"},"福建省闽清华伟陶瓷有限公司","闽清县","提升规模"]
[229,{"$f":"VLOOKUP(C232,'年度+月度'!E:F,2,FALSE)","v":"MA345GXE1"},"福建威固科技有限公司","闽清县","提升规模"]
[230,{"$f":"VLOOKUP(C233,'年度+月度'!E:F,2,FALSE)","v":"MA3299UF1"},"福建湘运丰电力科技有限公司","闽清县","提升规模"]
[231,{"$f":"VLOOKUP(C234,'年度+月度'!E:F,2,FALSE)","v":"MA2YY88H9"},"福建帝境杭萧钢构有限公司","闽清县","提升规模"]
[232,{"$f":"VLOOKUP(C235,'年度+月度'!E:F,2,FALSE)","v":"MA31EWU91"},"福建省汇森宝整体家居有限公司","闽清县","提升规模"]
[233,{"$f":"VLOOKUP(C236,'年度+月度'!E:F,2,FALSE)","v":"MA2YGNY91"},"福州欧尚装饰工程有限公司","闽清县","提升规模"]
[234,{"$f":"VLOOKUP(C237,'年度+月度'!E:F,2,FALSE)","v":"MACEHN808"},"福州三源峰矿业有限公司","闽清县","新建投产"]
[235,{"$f":"VLOOKUP(C238,'年度+月度'!E:F,2,FALSE)","v":"MA2XRY529"},"永泰县永正竹制品有限公司","永泰县","提升规模"]

{"sheet":"年度+月度","index":1,"n_rows":277,"n_cols":17,"rows_kept":277}
["期别","单位类型","所属专业","审核类型","详细名称","组织机构代码","所在地区划代码","行业代码_17","填表处理地代码","专业审批_国家_状态","名录终审_国家_状态","统计局代码","县区"]
["2023年","1","1","2","福建华电福瑞能源发展有限公司","MA33WCDD1","350102003005","4420","350102","1","1","350102000000","鼓楼区"]
["2023年","1","1","2","福建省恒裕实业有限公司","555055793","350112111206","2821","350112","1","1","350112000000","长乐区"]
["2023年","1","1","2","福州市长乐区琪广通砂石有限公司","MA8T4P171","350112104202","3032","350112","1","1","350112000000","长乐区"]
["2023年","1","1","2","福建宏升兄弟食品有限公司","MA347X5P0","350105101210","1361","350105","1","1","350105000000","马尾区"]
["2023年","1","1","2","福州市耐步鞋业有限公司","MABT1QF13","350104101203","1953","350104","1","1","350104000000","仓山区"]
["2023年","1","1","2","福建鑫四海装饰材料有限公司","587500484","350112110210","3352","350112","1","1","350112000000","长乐区"]
["2023年","1","1","2","福建富轩科技有限公司","MA321XNT3","350181116218","2662","350181","1","1","350181000000","福清市"]
["2023年","1","1","2","福州市长乐区宏源健康科技有限公司","MA33XDYL9","350112108201","2651","350112","1","1","350112000000","长乐区",{"$nulls":3},"县区"]
["2023年","1","1","2","福州汉晶电子科技有限公司","671921820","350104102206","3811","350104","1","1","350104000000","仓山区",{"$nulls":3},"鼓楼区"]
["2023年","1","1","2","福建川海水产有限公司","MA31M6UF3","350181112205","1369","350181","1","1","350181000000","福清市",{"$nulls":3},"仓山区"]
["2023年","1","1","2","福州比得福农业科技发展有限公司","310760443","350104101223","1399","350104","1","1","350104000000","仓山区",{"$nulls":3},"晋安区"]
["2023年","1","1","2","山辉（福建）生物科技发展有限公司","MA32YUU88","350121102203","2761","350121","1","1","350121000000","高新区",{"$nulls":3},"马尾区"]
["2023年","1","1","2","福州光闰光学有限公司","MA33JX3U3","350112103211","4040","350112","1","1","350112000000","长乐区",{"$nulls":3},"长乐区"]
["2023年","1","1","2","福清市旭瑞光电科技有限公司","098134065","350181006202","3481","350181","1","1","350181000000","福清市",{"$nulls":3},"福清市"]
["2023年","1","1","2","福建博那德中科新材料有限公司","MA8ULB0B3","350112111209","3024","350112","1","1","350112000000","长乐区",{"$nulls":3},"闽侯县"]
["2023年","1","1","2","福州市长乐区鸿兴针织有限公司","563358356","350112110207","1761","350112","1","1","350112000000","长乐区",{"$nulls":3},"高新区"]
["2023年","1","1","2","福建恒洲纺织科技有限公司","MA8TNEPG1","350112110207","1761","350112","1","1","350112000000","长乐区",{"$nulls":3},"连江县"]
["2023年","1","1","2","福建多加新材料有限公司","MA8UKBD6X","350105101213","2641","350105","1","1","350105000000","马尾区",{"$nulls":3},"罗源县"]
["2023年","1","1","2","福州日恒机电设备有限公司","669260269","350104102206","3484","350104","1","1","350104000000","仓山区",{"$nulls":3},"闽清县"]
["2023年","1","1","2","福州蓝科装备制造有限公司","MA8UAEF90","350121108212","3972","350121","1","1","350121000000","闽侯县",{"$nulls":3},"永泰县"]
["2023年","1","1","2","福建研宇自动化科技有限公司","MA32TEK91","350102009013","4011","350102","1","1","350102000000","鼓楼区",{"$nulls":3},"总计"]
["2023年","1","1","2","福建省福蓉源再生资源开发有限公司","MA8UJTGDX","350123101209","4210","350123","1","1","350123000000","罗源县"]
["2023年","1","1","2","福州北轩食品有限公司","587532777","350105100211","1361","350105","1","1","350105000000","马尾区"]
["2023年","1","1","2","福建新良佐自动化设备有限公司","MA8TCKR42","350123500498","3439","350123","1","1","350123000000","罗源县"]
["2023年","1","1","2","福州鑫丰玻璃有限公司","MA3362MF6","350181103225","3051","350181","1","1","350181000000","福清市"]
["2023年","1","1","2","福州亿芯微科技有限公司","MA34FYP85","350102006002","3973","350102","1","1","350102000000","鼓楼区"]
["2023年","1","1","2","闽清伟明环保能源有限公司","MA32R3TR5","350124102205","4417","350124","1","1","350124000000","闽清县"]
["2023年","1","1","2","福建省希望彩印有限公司","753118505","350121108001","2319","350121","1","1","350121000000","闽侯县"]
["2023年","1","1","2","福州长祥建材有限公司","MA8UYEQE2","350124205201","3099","350124","1","1","350124000000","闽清县"]
["2023年","1","1","2","福州华夏永昌胶粘制品有限公司","660380790","350121105205","2919","350121","1","1","350121000000","闽侯县"]
["2023年","1","1","2","福州融源达服饰有限公司","591726515","350111101216","1830","350111","1","1","350111000000","晋安区"]
["2023年","1","1","2","福州益诚服装有限公司","MA8UC1TE6","350121102002","1830","350121","1","1","350121000000","高新区"]
["2023年","1","1","2","福州瑞得森实业有限公司","MA33K3205","350122101206","2319","350122","1","1","350122000000","连江县"]
["2023年","1","1","2","福建瑶光智能科技有限公司","MA31JTTHX","350105100001","3962","350105","1","1","350105000000","马尾区"]
["2023年","1","1","2","福建省鑫旭达不锈钢制品有限公司","058447788","350105101209","3130","350105","1","1","350105000000","马尾区"]
["2023年","1","1","2","福建菲斯特锻件制品有限公司","74906513X","350122100008","3484","350122","1","1","350122000000","连江县"]
["2023年","1","1","2","福建同利食品有限公司","MA33HBUM9","350121001214","1432","350121","1","1","350121000000","闽侯县"]
["2023年","1","1","2","福建省翼比实集团有限公司","MABYFAE65","350121001204","2110","350121","1","1","350121000000","闽侯县"]
["2023年","1","1","2","福州东仕照明科技有限公司","727913775","350104103014","3872","350104","1","1","350104000000","仓山区"]
["2023年","1","1","2","福建省福大百阳化工科技有限公司","MA3216H98","350121107220","2689","350121","1","1","350121000000","高新区"]
["2023年","1","1","2","福清丰通鞋业有限公司","MA35CH842","350181118207","1953","350181","1","1","350181000000","福清市"]
["2023年","1","1","2","福州市长乐区德晟纤维科技有限公司","MA8UJNFF3","350112110208","2822","350112","1","1","350112000000","长乐区"]
["2023年","1","1","2","平潭鸿生环保科技有限公司","MA33PE819","350128108230","3021","350128","1","1","350128000000","平潭县"]
["2023年","1","1","2","福建润禾米业有限公司","MA31NPFK6","350123102217","1311","350123","1","1","350123000000","罗源县"]
["2023年","1","1","2","福建国电风力发电有限公司","MA34AJ8P8","350102100003","4415","350102","1","1","350102000000","鼓楼区"]
["2023年","1","1","2","福建胜和食品有限公司","MA8URNUW1","350122103208","1523","350122","1","1","350122000000","连江县"]
["2023年","1","1","2","福建针凌机械有限公司","587532830","350112114215","3551","350112","1","1","350112000000","长乐区"]
["2023年","1","1","2","闽侯县兴源水力发电有限公司","743830662","350121204204","4413","350121","1","1","350121000000","闽侯县"]
["2023年","1","1","2","福建坤和纺织有限公司","MA345UD91","350112111209","1761","350112","1","1","350112000000","长乐区"]
["2023年","1","1","2","福建宝太不锈钢有限公司","MA8RE9DC8","350123500498","3032","350123","1","1","350123000000","罗源县"]
["2023年","1","1","2","福建创盈实业有限公司","MA33TUTG0","350121101205","3351","350121","1","1","350121000000","闽侯县"]
["2023年","1","1","2","福州玉龙纳米科技有限公司","591748546","350121102218","2661","350121","1","1","350121000000","高新区"]
["2023年","1","1","2","福建佳灵电气设备有限公司","MA32C0YL8","350105101213","3823","350105","1","1","350105000000","马尾区"]
["2023年","1","1","2","福州德扬电子科技有限公司","MA32BFD75","350121001001","2929","350121","1","1","350121000000","闽侯县"]
["2023年","1","1","2","福州盛扬包装用品有限公司","766193459","350121104212","2923","350121","1","1","350121000000","闽侯县"]
["2023年","1","1","2","福建省聚兴凯平船业有限公司","553226974","350122113206","4342","350122","1","1","350122000000","连江县"]
["2023年","1","1","2","邹氏家居（福州）有限公司","MA3503G90","350181005204","2110","350181","1","1","350181000000","福清市"]
["2023年","1","1","2","福建致合金属制造有限公司","MA32W8LE9","350122202202","2432","350122","1","1","350122000000","连江县"]
["2023年","1","1","2","福州凌扬机电技术有限公司","MA32TE2B3","350121102218","3670","350121","1","1","350121000000","高新区"]
["2023年","1","1","2","福清鑫利金属制品有限公司","MA345R9W6","350181006006","3329","350181","1","1","350181000000","福清市"]
["2023年","1","1","2","环德（福建）环保科技有限公司","789019277","350121108004","3591","350121","1","1","350121000000","闽侯县"]
["2023年","1","1","2","福建翔越材料有限公司","MA8UR2CC6","350112108201","1711","350112","1","1","350112000000","长乐区"]
["2023年","1","1","2","福州亿达食品有限公司","749088083","350122101202","1369","350122","1","1","350122000000","连江县"]
["2023年","1","1","2","福建德隆实业有限公司","563386875","350181116218","1953","350181","1","1","350181000000","福清市"]
["2023年","1","1","2","福建天宁金岛贝壳科技有限公司","MA31P0PD5","350112002204","2681","350112","1","1","350112000000","长乐区"]
["2023年","1","1","2","福州睿能控制技术有限公司","MA31MYTR1","350121102203","3919","350121","1","1","350121000000","高新区"]
["2023年","1","1","2","福清市飞林食品有限公司","MA8UMNUG3","350181104216","1432","350181","1","1","350181000000","福清市"]
["2023年","1","1","2","泰士康医疗科技（福州）有限公司","MA31G26D0","350181116218","2770","350181","1","1","350181000000","福清市"]
["2023年","1","1","2","福建华扬新材料科技有限公司","MA321EY20","350123101209","4090","350123","1","1","350123000000","罗源县"]
["2023年","1","1","2","福建聚福木业有限公司","689359346","350122109212","2439","350122","1","1","350122000000","连江县"]
["2023年","1","1","2","福州金华彩钢夹芯板有限公司","062270727","350121104205","3034","350121","1","1","350121000000","闽侯县"]
["2023年","1","1","2","永畅通（福建）建材有限公司","MA34E44B9","350124102205","3021","350124","1","1","350124000000","闽清县"]
["2023年","1","1","2","福清三强鞋业有限公司","MA8UB61K5","350181118210","1953","350181","1","1","350181000000","福清市"]
["2023年","1","1","2","福建铠盾材料科技有限公司","MA8TLPKJ3","350181007011","3042","350181","1","1","350181000000","福清市"]
["2023年","1","1","2","福清市冠翔再生资源有限公司","MA8UKEJ31","350181116215","4220","350181","1","1","350181000000","福清市"]
["2023年","1","1","2","福建华青电气有限公司","MA31L75D5","350121102215","3823","350121","1","1","350121000000","高新区"]
["2023年","1","1","2","福建宏博瑞业集团有限公司","MA353JWT6","350121107220","4090","350121","1","1","350121000000","高新区"]
["2023年","1","1","2","福建智可荣实业有限公司","MAC4J96M9","350121001204","2110","350121","1","1","350121000000","闽侯县"]
["2023年","1","1","2","福州新榕机械发展有限公司","611310841","350121105213","3332","350121","1","1","350121000000","闽侯县"]
["2023年","1","1","2","福州富林居新材料科技有限公司","MA2YN82CX","350121200202","2110","350121","1","1","350121000000","闽侯县"]
["2023年","1","1","2","福州晶创玻璃有限公司","MA31ERDG7","350112106207","3042","350112","1","1","350112000000","长乐区"]
["2023年","1","1","2","福州冠茗茶业有限公司","MA8RMYC48","350121104205","1530","350121","1","1","350121000000","闽侯县"]
["2023年","1","1","2","煜烁食品（福清）有限公司","MA329PQ90","350181104217","1432","350181","1","1","350181000000","福清市"]
["2023年","1","1","2","福建鑫家鸿消防科技有限公司","MA32906NX","350121104214","3312","350121","1","1","350121000000","闽侯县"]
["2023年","1","1","2","福建佳丽旺食品有限责任公司","MA8TFWY54","350121001214","1411","350121","1","1","350121000000","闽侯县"]
["2023年","1","1","2","连江县鑫辉彩印厂（普通合伙）","569281863","350122101207","2320","350122","1","1","350122000000","连江县"]
["2023年","1","1","2","福建淼天汇食品有限公司","MA32GD4X2","350181104217","1361","350181","1","1","350181000000","福清市"]
["2023年","1","1","2","福建省中筑建安钢结构有限公司","MA3430LD2","350112110207","3311","350112","1","1","350112000000","长乐区"]
["2023年","1","1","2","福建镜祥科技有限公司","MABUF0XA8","350181008208","3311","350181","1","1","350181000000","福清市"]
["2023年","1","1","2","福州福融泽实业有限公司","MA34G65P6","350181113211","3099","350181","1","1","350181000000","福清市"]
["2023年","1","1","2","福建海卓售电有限公司","MA2YE0KQ8","350105001004","4420","350105","1","1","350105000000","马尾区"]
["2023年","1","1","2","福建京华电气设备有限公司","689364444","350122103002","3823","350122","1","1","350122000000","连江县"]
["2023年","1","1","2","福建鑫宏建建筑工程有限公司","MA332KL8X","350121108002","3099","350121","1","1","350121000000","闽侯县"]
["2023年","1","1","2","福建顺涛实业有限公司","MA327R5X8","350112105217","2821","350112","1","1","350112000000","长乐区"]
["2023年","1","1","2","福建华夏蓝新材料科技有限公司","337615182","350121001214","2641","350121","1","1","350121000000","闽侯县"]
["2023年","1","1","2","福建云汉汽车科技有限公司","MA8TMWR82","350121105213","3670","350121","1","1","350121000000","闽侯县"]
["2023年","1","1","2","福建省多普健水产科技有限公司","MA347FRA9","350181104217","1329","350181","1","1","350181000000","福清市"]
["2023年","1","1","2","万华环保科技（福建）有限公司","MAC3HFKQ5","350181116215","4220","350181","1","1","350181000000","福清市"]
["2023年","1","1","2","福州开发区安然燃气有限公司","775385890","350105001002","4511","350105","1","1","350105000000","马尾区"]
["2023年","1","1","2","福州奕扬机械有限公司","MA32EKC52","350121104202","3670","350121","1","1","350121000000","闽侯县"]
["2023年","1","1","2","福州东坤饲料有限公司","772912480","350121104202","1329","350121","1","1","350121000000","闽侯县"]
["2023年","1","1","2","福清交投沥青混凝土有限公司","MA8UTMLQ3","350181103223","3099","350181","1","1","350181000000","福清市"]
["2023年","1","1","2","福建中晟食品有限公司","MA31GY96X","350121104214","1353","350121","1","1","350121000000","闽侯县"]
["2023年","1","1","2","福建升辉鞋业有限公司","MA31T0052","350181113208","1953","350181","1","1","350181000000","福清市"]
["2023年","1","1","2","福建嘉瑶食品有限公司","MA340D6U5","350121104201","1411","350121","1","1","350121000000","闽侯县"]
["2023年","1","1","2","福建茂恒汽车配件有限公司","MA2Y545X1","350121104205","3670","350121","1","1","350121000000","闽侯县"]
["2023年","1","1","2","福建省闽江沙石实业有限公司","628598968","350124100004","1019","350124","1","1","350124000000","闽清县"]
["2023年","1","1","2","福建天赐农牧开发有限公司","052310756","350121108208","1329","350121","1","1","350121000000","闽侯县"]
["2023年","1","1","2","伯特瑞（福建）生物科技有限公司","MA32FRN49","350121102203","1399","350121","1","1","350121000000","高新区"]
["2023年","1","1","2","福州合和新材料有限公司","MABXG0JEX","350112110202","2829","350112","1","1","350112000000","长乐区"]
["2023年","1","1","2","闽侯县三溪口自来水有限公司","565384013","350121104213","4610","350121","1","1","350121000000","闽侯县"]
["2023年","1","1","2","福建洛西琴家具有限公司","MACA54L85","350121106214","2110","350121","1","1","350121000000","闽侯县"]
["2023年","1","1","2","福建省连江县宏晟矿业有限公司","MA8TMG4E1","350122114002","1019","350122","1","1","350122000000","连江县"]
["2023年","1","1","2","福州西铁机电技术有限公司","79839567X","350105100212","4011","350105","1","1","350105000000","马尾区"]
["2023年","1","1","2","欧事达家居（福州）有限公司","MA8REL165","350122105205","2439","350122","1","1","350122000000","连江县"]
["2023年","1","1","2","福建大众健康生物科技有限公司","056116002","350122111203","1361","350122","1","1","350122000000","连江县"]
["2023年","1","1","2","福建省通途材料工程有限公司","685085413","350121101205","3311","350121","1","1","350121000000","闽侯县"]
["2023年","1","1","2","福州市滨海水务发展有限公司","MA32G4440","350112005002","4610","350112","1","1","350112000000","长乐区"]
["2023年","1","1","2","福建八面将食品科技有限公司","MA8UDJ319","350121001214","1469","350121","1","1","350121000000","闽侯县"]
["2023年","1","1","2","福州聚利通新材料科技有限公司","MA348C766","350123101211","2929","350123","1","1","350123000000","罗源县"]
["2023年","1","1","2","三西红（福建）木业有限公司","MAC7RP5K6","350121106214","2019","350121","1","1","350121000000","闽侯县"]
["2023年","1","1","2","福建金涛户外用品有限公司","671925821","350121102218","3733","350121","1","1","350121000000","高新区"]
["2023年","1","1","2","福州市腾茂家居用品有限公司","MA2XRY836","350124104201","1953","350124","1","1","350124000000","闽清县"]
["2023年","1","1","2","福州景宏家具有限公司","746379221","350181117202","2110","350181","1","1","350181000000","福清市"]
["2023年","1","1","2","福建长昇科技有限公司","MA8T7FR92","350112110201","3551","350112","1","1","350112000000","长乐区"]
["2023年","1","1","2","福建省闽清华伟陶瓷有限公司","MA32FYBX9","350124104206","3071","350124","1","1","350124000000","闽清县"]
["2023年","1","1","2","福建港龙深鲜水产食品有限公司","MA32GM4A9","350181104217","1361","350181","1","1","350181000000","福清市"]
["2023年","1","1","2","欧睿宇邦（福建）智能科技有限公司","MA8T5CG0X","350112114219","2110","350112","1","1","350112000000","长乐区"]
["2023年","1","1","2","福清市五星服装厂","154915991","350181006206","1830","350181","1","1","350181000000","福清市"]
["2023年","1","1","2","福州苏榕电气成套有限公司","761786909","350105101210","3311","350105","1","1","350105000000","马尾区"]
["2023年","1","1","2","福建乾德机电有限公司","591740149","350121200202","3823","350121","1","1","350121000000","闽侯县"]
["2023年","1","1","2","福建云创食品科技有限公司","MA31FULY9","350181104217","1353","350181","1","1","350181000000","福清市"]
["2023年","1","1","2","福州威莱科电气有限公司","550989896","350121107220","3823","350121","1","1","350121000000","高新区"]
["2023年","1","1","2","福建省闽侯县闽星茶叶有限公司","154664555","350121103202","1530","350121","1","1","350121000000","闽侯县"]
["2023年","1","1","2","福州明朝建材有限公司","310615262","350121104001","3032","350121","1","1","350121000000","闽侯县"]
["2023年","1","1","2","福建威固科技有限公司","MA345GXE1","350124104206","3352","350124","1","1","350124000000","闽清县"]
["2023年","1","1","2","福建中燃电力销售有限公司","MA2XUF9N0","350111101206","4420","350111","1","1","350111000000","晋安区"]
["2023年","1","1","2","福建省吉泽铜业有限公司","MABWM5LJ9","350111100213","3399","350111","1","1","350111000000","晋安区"]
["2023年","1","1","2","福州派利德电子科技有限公司","685090386","350121102203","3562","350121","1","1","350121000000","高新区"]
["2023年","1","1","2","福建省创鑫微电子有限公司","MA359YAP7","350121102204","3973","350121","1","1","350121000000","高新区"]
["2023年","1","1","2","福建嘉渔工贸有限公司","399210375","350105001004","1361","350105","1","1","350105000000","马尾区"]
["2023年","1","1","2","福建敬萱堂食品有限公司","MA353EQK0","350121001214","1353","350121","1","1","350121000000","闽侯县"]
["2023年","1","1","2","福建天翔舒沃体育用品有限公司","MA8URTA09","350112112205","1954","350112","1","1","350112000000","长乐区"]
["2023年","1","1","2","福建高湖世家鞋业有限公司","MA34D0M66","350181118210","1953","350181","1","1","350181000000","福清市"]
["2023年","1","1","2","华能（福州长乐）光伏发电有限责任公司","337512263","350112002207","4416","350112","1","1","350112000000","长乐区"]
["2023年","1","1","2","欧冶链金（福建）再生资源有限公司","MACQMARNX","350123500498","4220","350123","1","1","350123000000","罗源县"]
["2023年","1","1","2","福建联升纺织有限公司","MA8RM5AF6","350181104209","2436","350181","1","1","350181000000","福清市"]
["2023年","1","1","2","福建省江南顺达线缆有限公司","M0001FWF3","350111201220","3831","350111","1","1","350111000000","晋安区"]
["2023年","1","1","2","福州胜德汽车科技有限公司","MAC5YDG06","350121105205","3670","350121","1","1","350121000000","闽侯县"]
["2023年","1","1","2","福建晶兰元工贸有限责任公司","MA351TBX1","350111100213","3823","350111","1","1","350111000000","晋安区"]
["2023年","1","1","2","福建缘杉纺织品有限公司","MA31ELRC7","350121108002","1771","350121","1","1","350121000000","闽侯县"]
["2023年","1","1","2","福州尚威新材科技有限公司","399578065","350121105229","2924","350121","1","1","350121000000","闽侯县"]
["2023年","1","1","2","福州市长乐区山海乐裁纺织有限公司","MABP18C62","350112004211","1761","350112","1","1","350112000000","长乐区"]
["2023年","1","1","2","福建精美金属科技有限公司","08164814X","350121105212","3670","350121","1","1","350121000000","闽侯县"]
["2023年","1","1","2","福建湘运丰电力科技有限公司","MA3299UF1","350124106203","3359","350124","1","1","350124000000","闽清县"]
["2023年","1","1","2","福清市兴弘塑料制品有限公司","MA323RU48","350181116218","4220","350181","1","1","350181000000","福清市"]
["2023年","1","1","2","福建汉林极上食品有限公司","553233605","350121106001","1361","350121","1","1","350121000000","闽侯县"]
["2023年","1","1","2","福州蓝渔实业有限公司","MA31HPX55","350121106209","1361","350121","1","1","350121000000","闽侯县"]
["2023年","1","1","2","福州恒裕陶瓷有限公司","793787156","350124102212","3071","350124","1","1","350124000000","闽清县"]
["2023年","1","1","2","汇纳肉业（福州）有限公司","MABUQEQT7","350112110201","1353","350112","1","1","350112000000","长乐区"]
["2023年","1","1","2","福建冠航食品有限公司","MAC91J1T8","350181114210","1361","350181","1","1","350181000000","福清市"]
["2023年","1","1","2","福州华旭机械电子工程有限公司","154436739","350102100001","3464","350102","1","1","350102000000","鼓楼区"]
["2023年","1","1","2","福建旭时新材料有限公司","MA3557YY8","350111002011","2922","350111","1","1","350111000000","晋安区"]
["2023年","1","1","2","福建富兰智能光学技术有限公司","064109881","350121102221","2929","350121","1","1","350121000000","高新区"]
["2023年","1","1","2","福建瑞元智能科技有限公司","096226222","350121107003","4012","350121","1","1","350121000000","闽侯县"]
["2023年","1","1","2","福州东荣塑胶制品有限公司","789006855","350121103209","2922","350121","1","1","350121000000","闽侯县"]
["2023年","1","1","2","福州屏山制药有限公司","757358223","350102007005","2740","350102","1","1","350102000000","鼓楼区"]
["2023年","1","1","2","福建锟泰钢管制造有限公司","MABNYRQW4","350112105212","3130","350112","1","1","350112000000","长乐区"]
["2023年","1","1","2","福建华合祥润工贸有限公司","MA34PD817","350111100213","3823","350111","1","1","350111000000","晋安区"]
["2023年","1","1","2","福建嘉德纺织有限公司","MA8ULTU70","350112114215","1761","350112","1","1","350112000000","长乐区"]
["2023年","1","1","2","福建艺佰皖集团有限公司","MAC9TWC68","350121108001","2110","350121","1","1","350121000000","闽侯县"]
["2023年","1","1","2","福建九圃生物科技有限公司","MA34AN2P0","350121107220","4024","350121","1","1","350121000000","闽侯县"]
["2023年","1","1","2","福州市海昌生物科技有限公司","068769617","350181115204","1329","350181","1","1","350181000000","福清市"]
["2023年","1","1","2","福建省嘎嘎黄小鸭食品有限公司","MA32W88F4","350121001214","1353","350121","1","1","350121000000","闽侯县"]
["2023年","1","1","2","福州锦华针织有限公司","MA32E0UK5","350112111201","1761","350112","1","1","350112000000","长乐区"]
["2023年","1","1","2","福建光旭科技有限公司","MA8UG8C47","350121102211","3976","350121","1","1","350121000000","高新区"]
["2023年","1","1","2","福建福州鼎锦城建材有限公司","MA3413XH9","350112105211","3022","350112","1","1","350112000000","长乐区"]
["2023年","1","1","2","福清黎阳水务有限公司","753128770","350181003204","4620","350181","1","1","350181000000","福清市"]
["2023年","1","1","2","福建富平实业有限公司","064149103","350112110201","2822","350112","1","1","350112000000","长乐区"]
["2023年","1","1","2","福建省闽侯县青口第二茶厂","154662963","350121104205","1530","350121","1","1","350121000000","闽侯县"]
["2023年","1","1","2","福建耐固士实业有限公司","MA31D40C3","350102100001","3024","350102","1","1","350102000000","鼓楼区"]
["2023年","1","1","3","福州创实讯联信息技术有限公司","315571852","350111001024","3915","350111","1","1","350111000000","晋安区"]
["2023年","1","1","3","福建茶叶进出口有限责任公司","158149702","350111100213","1530","350111","1","1","350111000000","晋安区"]
["2023年","1","1","3","福建万芯科技有限公司","MA31TE5U7","350121107005","3921","350121","1","1","350121000000","高新区"]
["2023年","1","1","3","福建清铧茶业股份有限公司","764066384","350105100208","1530","350105","1","1","350105000000","马尾区"]
["2023年","1","1","3","福建福大北斗通信科技有限公司","075028657","350121107220","3922","350121","1","1","350121000000","高新区"]
["2023年","1","1","3","福建奥通迈胜电力科技有限公司","577000267","350102009013","3823","350102","1","1","350102000000","鼓楼区"]
["2023年","1","1","3","福建诚拓电气设备有限公司","678465004","350121107221","4011","350121","1","1","350121000000","高新区"]
["2023年02月","1","1","9","福州德科精密工业有限公司","678470962","350121107218","3824",null,"1","1","350121000000","高新区"]
["2023年02月","1","1","9","福建帝境杭萧钢构有限公司","MA2YY88H9","350124200201","3311",null,"1","1","350124000000","闽清县"]
["2023年02月","1","1","9","福清市弘旭塑料制品有限公司","MA2XN69R0","350181116218","4220",null,"1","1","350181000000","福清市"]
["2023年02月","1","1","9","福建福立方实业有限公司","MA322UF7X","350122105206","2110",null,"1","1","350122000000","连江县"]
["2023年02月","1","1","9","福州市长乐区古源茶叶有限公司","782182733","350112108221","1530",null,"1","1","350112000000","长乐区"]
["2023年02月","1","1","9","福州市环球不锈钢制品有限公司","07741536X","350181113004","3130",null,"1","1","350181000000","福清市"]
["2023年02月","1","1","9","福建安之源消防科技有限公司","MA2XNUFW5","350123500498","3312",null,"1","1","350123000000","罗源县"]
["2023年02月","1","1","9","福州市坤杰服饰科技有限公司","696623512","350181006006","1819",null,"1","1","350181000000","福清市"]
["2023年02月","1","1","9","福建省云鲲塑业有限公司","MA33UX4A6","350181007206","2926",null,"1","1","350181000000","福清市"]
["2023年02月","1","1","9","福建福创建筑安全技术开发有限公司","753149352","350112004207","3823",null,"1","1","350112000000","长乐区"]
["2023年02月","1","1","9","福建碧全科技有限公司","574719022","350112110201","2110",null,"1","1","350112000000","长乐区"]
["2023年02月","1","1","9","福州诚丰制衣有限公司","MA8TJDUB8","350111101216","1830",null,"1","1","350111000000","晋安区"]
["2023年02月","1","1","9","中科城投（福建）发展有限公司","MA8UNEYY7","350111100213","3031",null,"1","1","350111000000","晋安区"]
["2023年02月","1","1","9","福州鑫阳光服装有限公司","MA2Y0NHQ5","350111100213","1830",null,"1","1","350111000000","晋安区"]
["2023年02月","1","1","9","福建埃克斯动力设备有限公司","MA8TDGRA6","350112105212","3811",null,"1","1","350112000000","长乐区"]
["2023年02月","1","1","9","福建省汇森宝整体家居有限公司","MA31EWU91","350124103203","2110",null,"1","1","350124000000","闽清县"]
["2023年02月","1","1","9","平潭煜想时代科技有限公司","MA2XPM808","350128107001","3825",null,"1","1","350128000000","平潭县"]
["2023年02月","1","1","9","福州顺达金属工业有限公司","561682304","350105101217","3252",null,"1","1","350105000000","马尾区"]
["2023年02月","1","1","9","平潭县凯隆塑料制品有限公司","739545869","350128001232","2926",null,"1","1","350128000000","平潭县"]
["2023年02月","1","1","9","福建永福汇能科技有限公司","MA8TLMWJ1","350121107220","3499",null,"1","1","350121000000","高新区"]
["2023年02月","1","1","9","福建榕晟电气有限公司","MA3232E3X","350104104202","3823",null,"1","1","350104000000","仓山区"]
["2023年02月","1","1","9","连江县锦程新型材料有限公司","MA2YMNXT1","350122202202","3130",null,"1","1","350122000000","连江县"]
["2023年02月","1","1","9","福州荣裕实业有限公司","775394455","350112002212","3561",null,"1","1","350112000000","长乐区"]
["2023年02月","1","1","9","福州荣旺工贸有限公司","798382246","350102100001","3453",null,"1","1","350102000000","鼓楼区"]
["2023年02月","1","1","9","福建榕灿电气科技有限公司","MA8RKPYC8","350121001214","3823",null,"1","1","350121000000","闽侯县"]
["2023年02月","1","1","9","福州常兴制冷设备有限公司","735688862","350121104202","3464",null,"1","1","350121000000","闽侯县"]
["2023年02月","1","1","9","福建日电水务科技有限公司","MA8RC2A35","350121108001","3383",null,"1","1","350121000000","闽侯县"]
["2023年02月","1","1","9","福清市鑫福融家居用品有限公司","MA8RDX883","350181104222","2110",null,"1","1","350181000000","福清市"]
["2023年02月","1","1","9","福建鼎旸信息科技股份有限公司","315344780","350102009013","3921",null,"1","1","350102000000","鼓楼区"]
["2023年02月","1","1","9","福建平潭大唐海上风电有限责任公司","MA31DPTC5","350128108219","4415",null,"1","1","350128000000","平潭县"]
["2023年02月","1","1","9","福州恒美光电材料有限公司","MA35CEQL8","350112110207","3824",null,"1","1","350112000000","长乐区"]
["2023年02月","1","1","9","福建润普新材料科技有限公司","MA8U5BFG2","350123200208","2922",null,"1","1","350123000000","罗源县"]
["2023年02月","1","1","9","福州宏彦食品有限公司","MA2YLR966","350121001214","1392",null,"1","1","350121000000","闽侯县"]
["2023年02月","1","1","9","福州百福机电有限公司","611334237","350104103213","3973",null,"1","1","350104000000","仓山区"]
["2023年02月","1","1","9","福州需求侧电力科技有限公司","MA348QDC1","350105100211","3569",null,"1","1","350105000000","马尾区"]
["2023年02月","1","1","9","福州富春紫光污水处理有限公司","337475589","350181104222","4620",null,"1","1","350181000000","福清市"]
["2023年02月","1","1","9","福建蓝美新材料有限公司","337597017","350121105001","3039",null,"1","1","350121000000","闽侯县"]
["2023年02月","1","1","9","福州家和兴纺织有限公司","073247880","350181008205","1712",null,"1","1","350181000000","福清市"]
["2023年02月","1","1","9","福建汇邦包装有限公司","337472476","350112002203","2319",null,"1","1","350112000000","长乐区"]
["2023年02月","1","1","9","福州昌博集装箱制造有限公司","MA33F2HB0","350123500498","3331",null,"1","1","350123000000","罗源县"]
["2023年02月","1","1","9","福州锦雅服装有限公司","MA33EGFT8","350104102210","1811",null,"1","1","350104000000","仓山区"]
["2023年02月","1","1","9","福建华夏蓝天科技有限公司","MA2Y7GDR7","350121107218","3411",null,"1","1","350121000000","高新区"]
["2023年02月","1","1","9","福建奥飞新材料有限公司","MA33W6GAX","350121001214","2641",null,"1","1","350121000000","闽侯县"]
["2023年02月","1","1","9","海环资源科技有限责任公司","MA33RAN73","350122103215","3039",null,"1","1","350122000000","连江县"]
["2023年02月","1","1","9","福建省立华智纺科技有限公司","MA31QQ209","350112112204","1761",null,"1","1","350112000000","长乐区"]
["2023年02月","1","1","9","永泰县永正竹制品有限公司","MA2XRY529","350125105208","2435",null,"1","1","350125000000","永泰县"]
["2023年02月","1","1","9","福建炻艺新材有限公司","MA8UHEXD6","350123200208","3031",null,"1","1","350123000000","罗源县"]
["2023年02月","1","1","9","福州欧尚装饰工程有限公司","MA2YGNY91","350124106203","3312",null,"1","1","350124000000","闽清县"]
["2023年02月","1","1","9","福州金信光电有限公司","550993916","350104103012","3052",null,"1","1","350104000000","仓山区"]
["2023年02月","1","1","9","福清市瑞强制衣有限公司","MA31DR0R9","350181008203","1819",null,"1","1","350181000000","福清市"]
["2023年02月","1","1","9","福建中镁材料科技有限公司","MA3270HP5","350181116218","2023",null,"1","1","350181000000","福清市"]
["2023年05月","1","1","1","平潭海峡发电有限公司","MA33HFHU2","350128108233","4415",null,"1","1","350128000000","平潭县"]
["2023年05月","1","1","1","福清联辉鞋业有限公司","MA32DH175","350181118210","1953",null,"1","1","350181000000","福清市"]
["2023年06月","1","1","1","福建溥泉新能源科技有限公司","MA8UQDRP2","350122115201","2661",null,"1","1","350122000000","连江县"]
["2023年06月","1","1","1","福建永福绿能科技有限公司","MABRD81X0","350121107218","3825",null,"1","1","350121000000","高新区"]
["2023年07月","1","1","1","福建锦泰生物科技有限公司","MA8UJYQQ3","350121102001","1530",null,"1","1","350121000000","高新区"]
["2023年07月","1","1","1","中粮制桶（福建）有限公司","MA3563NA6","350181116218","3333",null,"1","1","350181000000","福清市"]
["2023年07月","1","1","1","福建富元高分子材料科技有限公司","MA8UW5AT8","350181118210","2929",null,"1","1","350181000000","福清市"]
["2023年08月","1","1","1","福建福盛和塑胶制品有限公司","MA8TDBX33","350181008210","1953",null,"1","1","350181000000","福清市"]
["2023年08月","1","1","1","福建省祥亿机械制造有限公司","MA34CGCX1","350128108230","3517",null,"1","1","350128000000","平潭县"]
["2023年08月","1","1","1","福建思嘉新材料科技有限公司","MA35EKD94","350181115205","2651",null,"1","1","350181000000","福清市"]
["2023年08月","1","1","1","贝乐鲜（福州）食品科技有限公司","MA34D4B83","350105101208","1361",null,"1","1","350105000000","马尾区"]
["2023年08月","1","1","1","福建恒申电子材料科技有限公司","MA353DRM0","350122115201","2614",null,"1","1","350122000000","连江县"]
["2023年08月","1","1","1","福建洁电电气有限公司","MABWD5EJ5","350181005204","3823",null,"1","1","350181000000","福清市"]
["2023年08月","1","1","1","福建源畅食品有限公司","MABQGJ1B6","350181104215","1361",null,"1","1","350181000000","福清市"]
["2023年08月","1","1","1","福建东禾晟实业有限公司","MA8RDHB03","350122115201","1752",null,"1","1","350122000000","连江县"]
["2023年09月","1","1","1","福清森达电气有限公司","MAC36JYU8","350181008210","3823",null,"1","1","350181000000","福清市"]
["2023年10月","1","1","1","福建永福绿能设备有限公司","MABRXF2F8","350121107218","3825",null,"1","1","350121000000","高新区"]
["2023年11月","1","1","1","福建润泽新能源科技发展有限公司","MA8UBMHL9","350122115203","2662",{"$nulls":3},"350122000000","连江县"]
["2023年11月","1","1","1","福建鸿太沥青混凝土有限公司","MA8T1CT19","350181104204","3099",{"$nulls":3},"350181000000","福清市"]
["2023年11月","1","1","1","福建鼎融新型环保材料有限公司","MA33AYW14","350123101209","3252",{"$nulls":3},"350123000000","罗源县"]
["2023年11月","1","1","1","福州三源峰矿业有限公司","MACEHN808","350124200202","3099",{"$nulls":3},"350124000000","闽清县"]
["2023年11月","1","1","1","福州基石医药科技有限公司","MA32KKGL1","350104102225","2720",{"$nulls":3},"350104000000","仓山区"]
["2023年11月","1","1","1","福建世高汽车配件有限公司","MAC0MJ975","350181006202","2929",{"$nulls":3},"350181000000","福清市"]
["2023年11月","1","1","1","福州恒易家居有限公司","MAC2J08Q8","350112002212","2110",{"$nulls":3},"350112000000","长乐区"]
["2023年11月","1","1","1","福州市智明科技有限公司","MABYK5RC0","350122105205","2319",{"$nulls":3},"350122000000","连江县"]
["2023年11月","1","1","2","中国石油天然气股份有限公司天然气销售福建分公司","MA2XX1JM4","350104102007","4511",{"$nulls":3},"350104000000","仓山区"]
["2023年11月","1","1","1","福建云尚食品有限公司","MAC81NX71","350181104217","1361",{"$nulls":3},"350181000000","福清市"]
["2023年11月","1","1","1","祥运包装（福州）有限公司","MABXMBEA8","350181007207","2035",{"$nulls":3},"350181000000","福清市"]
["2023年11月","1","1","1","福建省福蓉源新材料高端制造有限公司","MA8UJTEK4","350123101209","3969",{"$nulls":3},"350123000000","罗源县"]
["2023年11月","1","1","1","福建富昆实业有限公司","MABT3GW23","350181008206","1761",{"$nulls":3},"350181000000","福清市"]
["2023年11月","1","1","1","福建鑫丰联实业有限公司","MAC0976M5","350112110201","2921",{"$nulls":3},"350112000000","长乐区"]
["2023年11月","1","1","1","福建金嘉建材有限公司","MABUPQ466","350123200211","3099",{"$nulls":3},"350123000000","罗源县"]
["2023年02月","1","1","8","福建省九州远盛建材有限公司","MA33HDEK6","350105100201","3022",null,"1","1","350105000000","马尾区"]
["2023年02月","1","1","8","福建易安特新型建材有限公司","079754429","350121107220","2659",null,"1","1","350121000000","闽侯县"]
["2023年02月","1","1","8","福建海西新药创制股份有限公司","593452167","350104103006","2720",null,"1","1","350104000000","仓山区"]
["2023年02月","1","1","8","中琉科技有限公司","579264952","350121107218","2661",null,"1","1","350121000000","高新区"]
["2023年02月","1","1","8","福建康泰再生资源利用有限公司","MA32AQ2K6","350112104203","4210",null,"1","1","350112000000","长乐区"]